BEGIN:VCALENDAR
VERSION:2.0
PRODID:-//wp-events-plugin.com//7.2.1//EN
TZID:Europe/Stockholm
X-WR-TIMEZONE:Europe/Stockholm
BEGIN:VEVENT
UID:29@onsjogk.com
DTSTART;TZID=Europe/Stockholm:20240416T000000
DTEND;TZID=Europe/Stockholm:20240421T000000
DTSTAMP:20240130T124057Z
URL:https://www.onsjogk.com/events/gront-kort-april-2/
SUMMARY:Grönt kort April 2
DESCRIPTION:April\n\n16/4 - 18:00 - 20:00\n\n20/4 - 09:00 - 12:00\n\n21/4 -
  09:00-12:00
ATTACH;FMTTYPE=image/jpeg:https://www.onsjogk.com/wp-content/uploads/2023/
 01/Fridaskolan2-2022.jpg
END:VEVENT
BEGIN:VTIMEZONE
TZID:Europe/Stockholm
X-LIC-LOCATION:Europe/Stockholm
BEGIN:DAYLIGHT
DTSTART:20240331T030000
TZOFFSETFROM:+0100
TZOFFSETTO:+0200
TZNAME:CEST
END:DAYLIGHT
END:VTIMEZONE
END:VCALENDAR