BEGIN:VCALENDAR
VERSION:2.0
PRODID:-//wp-events-plugin.com//7.2.1//EN
TZID:Europe/Stockholm
X-WR-TIMEZONE:Europe/Stockholm
BEGIN:VEVENT
UID:6@onsjogk.com
DTSTART;TZID=Europe/Stockholm:20230613T170000
DTEND;TZID=Europe/Stockholm:20230615T200000
DTSTAMP:20230529T110804Z
URL:https://www.onsjogk.com/events/gront-kort-juni/
SUMMARY:Grönt kort Juni
DESCRIPTION:Juni\n\n13/6 18:00-20:00\, 14/6 och 15/6 17:00-20:00
ATTACH;FMTTYPE=image/jpeg:https://www.onsjogk.com/wp-content/uploads/2023/
 01/Fridaskolan2-2022.jpg
END:VEVENT
BEGIN:VTIMEZONE
TZID:Europe/Stockholm
X-LIC-LOCATION:Europe/Stockholm
BEGIN:DAYLIGHT
DTSTART:20230326T030000
TZOFFSETFROM:+0100
TZOFFSETTO:+0200
TZNAME:CEST
END:DAYLIGHT
END:VTIMEZONE
END:VCALENDAR