BEGIN:VCALENDAR
VERSION:2.0
PRODID:-//wp-events-plugin.com//7.2.1//EN
TZID:Europe/Stockholm
X-WR-TIMEZONE:Europe/Stockholm
BEGIN:VEVENT
UID:31@onsjogk.com
DTSTART;TZID=Europe/Stockholm:20240521T000000
DTEND;TZID=Europe/Stockholm:20240525T000000
DTSTAMP:20240130T124752Z
URL:https://www.onsjogk.com/events/gront-kort-maj-2-2/
SUMMARY:Grönt kort Maj 2
DESCRIPTION:Maj\n\n21/5 - 18:00 - 20:00\n\n23/5 - 18:00 - 20:00\n\n25/5 - 0
 9:00-13:00
ATTACH;FMTTYPE=image/jpeg:https://www.onsjogk.com/wp-content/uploads/2023/
 01/Fridaskolan2-2022.jpg
END:VEVENT
BEGIN:VTIMEZONE
TZID:Europe/Stockholm
X-LIC-LOCATION:Europe/Stockholm
BEGIN:DAYLIGHT
DTSTART:20240331T030000
TZOFFSETFROM:+0100
TZOFFSETTO:+0200
TZNAME:CEST
END:DAYLIGHT
END:VTIMEZONE
END:VCALENDAR