BEGIN:VCALENDAR
VERSION:2.0
PRODID:-//wp-events-plugin.com//7.2.1//EN
TZID:Europe/Stockholm
X-WR-TIMEZONE:Europe/Stockholm
BEGIN:VEVENT
UID:49@onsjogk.com
DTSTART;TZID=Europe/Stockholm:20241128T183000
DTEND;TZID=Europe/Stockholm:20241128T193000
DTSTAMP:20241105T085938Z
URL:https://www.onsjogk.com/events/hostarsmote-28-november/
SUMMARY:Höstårsmöte 28 November
DESCRIPTION:
END:VEVENT
BEGIN:VTIMEZONE
TZID:Europe/Stockholm
X-LIC-LOCATION:Europe/Stockholm
BEGIN:STANDARD
DTSTART:20241027T020000
TZOFFSETFROM:+0200
TZOFFSETTO:+0100
TZNAME:CET
END:STANDARD
END:VTIMEZONE
END:VCALENDAR