BEGIN:VCALENDAR
VERSION:2.0
PRODID:-//wp-events-plugin.com//7.2.1//EN
TZID:Europe/Stockholm
X-WR-TIMEZONE:Europe/Stockholm
BEGIN:VEVENT
UID:8@onsjogk.com
DTSTART;TZID=Europe/Stockholm:20230807T100000
DTEND;TZID=Europe/Stockholm:20230810T150000
DTSTAMP:20230527T125428Z
URL:https://www.onsjogk.com/events/sommargolfskola-v32/
SUMMARY:Sommargolfskola v32
DESCRIPTION:7/8 - 10/8 10.00-15.00
ATTACH;FMTTYPE=image/jpeg:https://www.onsjogk.com/wp-content/uploads/2023/
 01/Fridaskolan2-2022.jpg
END:VEVENT
BEGIN:VTIMEZONE
TZID:Europe/Stockholm
X-LIC-LOCATION:Europe/Stockholm
BEGIN:DAYLIGHT
DTSTART:20230326T030000
TZOFFSETFROM:+0100
TZOFFSETTO:+0200
TZNAME:CEST
END:DAYLIGHT
END:VTIMEZONE
END:VCALENDAR