BEGIN:VCALENDAR
VERSION:2.0
PRODID:-//wp-events-plugin.com//7.2.1//EN
TZID:Europe/Stockholm
X-WR-TIMEZONE:Europe/Stockholm
BEGIN:VEVENT
UID:51@onsjogk.com
DTSTART;TZID=Europe/Stockholm:20250111T100000
DTEND;TZID=Europe/Stockholm:20250111T110000
DTSTAMP:20241118T164642Z
URL:https://www.onsjogk.com/events/vintertraning-junior-2025/
SUMMARY:Vinterträning Junior 2025
DESCRIPTION:Vinterträning Junior 2025\n\nTräningar kommer ligga på lörd
 ag eller söndag under januari-mars. Vid kall väderlek kan det bli inomhu
 s.\nSista anmälan senast 20/12\n\nDeltagarlista och tider skickas sedan u
 t innan årsskiftet.
END:VEVENT
BEGIN:VTIMEZONE
TZID:Europe/Stockholm
X-LIC-LOCATION:Europe/Stockholm
BEGIN:STANDARD
DTSTART:20241027T020000
TZOFFSETFROM:+0200
TZOFFSETTO:+0100
TZNAME:CET
END:STANDARD
END:VTIMEZONE
END:VCALENDAR